Workbook

Sheet Sažetak 
A1: Temeljem odredbi članka 86. stavka 1. Zakona o proračunu (Narodne novine br. 144/21), članka 52. Pravilnika o polugodišnjem i godišnjem izvještaju o izvršenju proračuna i financijskog plana (Narodne novine br. 85/23), članka 29. Odluke o izvršavanju Proračuna Varaždinske županije za 2026. godinu (Službeni vjesnik Varaždinske županije br. 101/23) i članka 68. Statuta OSNOVNE ŠKOLE IZIDORA POLJAKA VIŠNJICA, Školski odbor na sjednici održanoj 31.07.2026. godine, donosi:
A2: POLUGODIŠNJI IZVJEŠTAJA O IZVRŠENJU FINANCIJSKOG PLANA
A3: OSNOVNA ŠKOLA IZIDORA POLJAKA VIŠNJAKA
B4: ZA 2026. GODINU
A6: I. OPĆI DIO
A8: Članak 1.
A10: Sažetak polugodišnjeg izvještaja o izvršenju Financijskog plana za 2026. godinu izgleda kako slijedi:
A12: SAŽETAK RAČUNA PRIHODA I RASHODA I RAČUNA FINANCIRANJA
A13: Opis | B13: Ostvarenje / izvršenje 01.01.-30.06.'25. | C13: Izvorni plan 2026. | D13: Tekući plan 2026. | E13: Ostvarenje / izvršenje 01.01.-30.06.'26. | F13: Indeks % | G13: Indeks %
A14: 1 | B14: 2 | C14: 3 | D14: 4 | E14: 5 | F14: 6=5/2*100 | G14: 7=5/4*100
A15: A. RAČUN PRIHODA I RASHODA
A16: 6 Prihodi poslovanja | B16: 615967.87 | C16: 1872233 | D16: 1872233 | E16: 752924.59 | F16: 122.23 | G16: 40.22
A17: 7 Prihodi od prodaje nefinancijske imovine | B17: 0 | C17: 0 | D17: 0 | E17: 0
A18: 3 Rashodi poslovanja | B18: 695158.21 | C18: 1249546 | D18: 1249546 | E18: 642598.48 | F18: 92.44 | G18: 51.43
A19: 4 Rashodi za nabavu nefinancijske imovine | B19: 1594.25 | C19: 623837 | D19: 623837 | E19: 160436 | F19: 10063.42 | G19: 25.72
A20: RAZLIKA - VIŠAK/MANJAK | B20: =B16+B17-B18-B19 -> -80784.59 | C20: =C16+C17-C18-C19 -> -1150 | D20: =D16+D17-D18-D19 -> -1150 | E20: =E16+E17-E18-E19 -> -50109.89 | F20: 62.03 | G20: 4357.38
A21: B. RAČUN FINANCIRANJA
A22: 8 Primici od financijske imovine i zaduživanja | B22: ='Rač fin-Tablica 4.'!B7 -> 0 | C22: ='Rač fin-Tablica 4.'!C7 -> 0 | D22: ='Rač fin-Tablica 4.'!D7 -> 0 | E22: ='Rač fin-Tablica 4.'!E7 -> 0 | F22: =IFERROR(E22/B22*100,"-") -> - | G22: =IFERROR(E22/D22*100,"-") -> -
A23: 5 Izdaci za financijsku imovinu i otplate zajmova | B23: ='Rač fin-Tablica 4.'!B16 -> 0 | C23: ='Rač fin-Tablica 4.'!C16 -> 0 | D23: ='Rač fin-Tablica 4.'!D16 -> 0 | E23: ='Rač fin-Tablica 4.'!E16 -> 0 | F23: =IFERROR(E23/B23*100,"-") -> - | G23: =IFERROR(E23/D23*100,"-") -> -
A24: NETO FINANCIRANJE | B24: =B22-B23 -> 0 | C24: =C22-C23 -> 0 | D24: =D22-D23 -> 0 | E24: =E22-E23 -> 0
A25: C. FINANCIJSKI PLAN UKUPNO
A26: PRIHODI I PRIMICI | B26: =B16+B17+B22 -> 615967.87 | C26: =C16+C17+C22 -> 1872233 | D26: =D16+D17+D22 -> 1872233 | E26: =E16+E17+E22 -> 752924.59 | F26: =IFERROR(E26/B26*100,"-") -> 122.23439 | G26: =IFERROR(E26/D26*100,"-") -> 40.215325
A27: RASHODI I IZDACI | B27: =B18+B19+B23 -> 696752.46 | C27: =C18+C19+C23 -> 1873383 | D27: =D18+D19+D23 -> 1873383 | E27: =E18+E19+E23 -> 803034.48 | F27: =IFERROR(E27/B27*100,"-") -> 115.25391 | G27: =IFERROR(E27/D27*100,"-") -> 42.865473
A28: RAZLIKA - višak/manjak | B28: =B26-B27 -> -80784.59 | C28: =C26-C27 -> -1150 | D28: =D26-D27 -> -1150 | E28: =E26-E27 -> -50109.89 | F28: 62.03 | G28: 4357.38
A30: UKUPAN DONOS MANJKA IZ PRETHODNIH GODINA* | B30: 0 | E30: 0
A31: UKUPAN DONOS VIŠKA IZ PRETHODNIH GODINA* | B31: 0 | E31: 0
A33: D. SREDSTVA IZ PRETHODNIH GODINA
A34: VIŠAK PRIHODA NAD RASHODIMA za raspodjelu (preneseni) | B34: 1479.32 | C34: 1150 | D34: 0 | E34: 0
A35: MANJAK PRIHODA NAD RASHODIMA za pokriće (preneseni) | B35: 0 | C35: 0 | D35: 93858.3 | E35: 93858.3
A36: VIŠAK/MANJAK IZ PRETHODNIH GODINA ZA RASPOREDITI/POKRITI | B36: 0 | C36: 1150 | D36: =D34+D35 -> 93858.3 | E36: =E34+E35 -> 93858.3
A38: RAZLIKA - višak/manjak | B38: 1479.32 | C38: 1150 | D38: =D28+D36 -> 92708.3 | E38: 143968.19
A39: * Redak UKUPAN DONOS MANJKA/VIŠKA IZ PRETHODNIH GODINA služi kao informacija i ne uzima se u obzir kod uravnoteženja fin. plana, već se fin. plan uravnotežuje retkom VIŠAK/MANJAK IZ PRETHODNIH GODINA ZA RASPOREDITI/POKRITI

Sheet P i R -Tablica 1.
A1: Članak 2.
A3: Prihodi i rashodi te primici i izdaci ostvareni su, odnosno izvršeni u 2026. godini u Računu prihoda i rashoda i Računu financiranja, uz usporedbu prethodne godine, kako slijedi:
A5: A. RAČUN PRIHODA I RASHODA
A7: Tablica 1. Izvještaj o prihodima i rashodima prema ekonomskoj klasifikaciji
A9: Brojčana oznaka i naziv računa prihoda i rashoda | B9: ='Sažetak '!B13 -> Ostvarenje / izvršenje 01.01.-30.06.'25. | C9: ='Sažetak '!C13 -> Izvorni plan 2026. | D9: ='Sažetak '!D13 -> Tekući plan 2026. | E9: ='Sažetak '!E13 -> Ostvarenje / izvršenje 01.01.-30.06.'26. | F9: Indeks % | G9: Indeks %
A10: 1 | B10: 2 | C10: 3 | D10: 4 | E10: 5 | F10: 6=5/2*100 | G10: 7=5/4*100
A11: 6 Prihodi poslovanja | B11: =B12+B35+B42+B46+B54+B63 -> 615967.87 | C11: 1872233 | D11: 1872233 | E11: 752924.59 | F11: =IFERROR(E11/B11*100,"-") -> 122.23439 | G11: =IFERROR(E11/D11*100,"-") -> 40.215325
A12: 63 Pomoći iz inozemstva i od subjekata unutar općeg proračuna | B12: =B13+B15+B20+B23+B26+B29 -> 562480 | C12: 1768823 | D12: 1768823 | E12: =E13+E15+E20+E23+E26+E29 -> 697327.67 | F12: =IFERROR(E12/B12*100,"-") -> 123.97377 | G12: =IFERROR(E12/D12*100,"-") -> 39.423259
A13: 631 Pomoći od inozemnih vlada | B13: =B14 -> 0 | C13: 0 | D13: 0 | E13: =E14 -> 0 | F13: =IFERROR(E13/B13*100,"-") -> - | G13: =IFERROR(E13/D13*100,"-") -> -
A14: 6311 Tekuće pomoći od inozemnih vlada | B14: 0 | C14: 0 | D14: 0 | E14: 0 | F14: =IFERROR(E14/B14*100,"-") -> - | G14: =IFERROR(E14/D14*100,"-") -> -
A15: 632 Pomoći od međunarodnih organizacija te institucija i tijela EU | B15: =SUM(B16:B19) -> 0 | C15: 0 | D15: 0 | E15: =SUM(E16:E19) -> 0 | F15: =IFERROR(E15/B15*100,"-") -> - | G15: =IFERROR(E15/D15*100,"-") -> -
A16: 6321 Tekuće pomoći od međunarodnih organizacija | B16: 0 | C16: 0 | D16: 0 | E16: 0 | F16: =IFERROR(E16/B16*100,"-") -> - | G16: =IFERROR(E16/D16*100,"-") -> -
A17: 6322 Kapitalne pomoći od međunarodnih organizacija | B17: 0 | C17: 0 | D17: 0 | E17: 0 | F17: =IFERROR(E17/B17*100,"-") -> - | G17: =IFERROR(E17/D17*100,"-") -> -
A18: 6323 Tekuće pomoći od institucija i tijela EU | B18: 0 | C18: 0 | D18: 0 | E18: 0 | F18: =IFERROR(E18/B18*100,"-") -> - | G18: =IFERROR(E18/D18*100,"-") -> -
A19: 6324 Kapitalne pomoći od institucija i tijela EU | B19: 0 | C19: 0 | D19: 0 | E19: 0 | F19: =IFERROR(E19/B19*100,"-") -> - | G19: =IFERROR(E19/D19*100,"-") -> -
A20: 634 Pomoći od izvanproračunskih korisnika | B20: =B21+B22 -> 0 | C20: 0 | D20: 0 | E20: =E21+E22 -> 0 | F20: =IFERROR(E20/B20*100,"-") -> - | G20: =IFERROR(E20/D20*100,"-") -> -
A21: 6341 Tekuće pomoći od proračunskih korisnika | B21: 0 | C21: 0 | D21: 0 | E21: 0 | F21: =IFERROR(E21/B21*100,"-") -> - | G21: =IFERROR(E21/D21*100,"-") -> -
A22: 6342 Kapitalne pomoći od izvanproračunskih korisnika | B22: 0 | C22: 0 | D22: 0 | E22: 0 | F22: =IFERROR(E22/B22*100,"-") -> - | G22: =IFERROR(E22/D22*100,"-") -> -
A23: 636 Pomoći proračunskim korisnicma iz proračuna koji im nije nadležan | B23: =B24+B25 -> 548221.13 | C23: 0 | D23: 0 | E23: =E24+E25 -> 574730.57 | F23: =IFERROR(E23/B23*100,"-") -> 104.83554 | G23: =IFERROR(E23/D23*100,"-") -> -
A24: 6361 Tekuće pomoći proračunskim korisnicma iz proračuna koji im nije nadležan | B24: 548221.13 | C24: 0 | D24: 0 | E24: 574730.57 | F24: 104.84 | G24: =IFERROR(E24/D24*100,"-") -> -
A25: 6362 Kapitalne pomoći proračunskim korisnicma iz proračuna koji im nije nadležan | B25: 0 | C25: 0 | D25: 0 | E25: 0 | F25: =IFERROR(E25/B25*100,"-") -> - | G25: =IFERROR(E25/D25*100,"-") -> -
A26: 638 Pomoći temeljem prijenosa EU sredstava | B26: =B27+B28 -> 0 | C26: 0 | D26: 0 | E26: =E27+E28 -> 0 | F26: =IFERROR(E26/B26*100,"-") -> - | G26: =IFERROR(E26/D26*100,"-") -> -
A27: 6381 Tekuće pomoći temeljem prijenosa EU sredstava | B27: 0 | C27: 0 | D27: 0 | E27: 0 | F27: =IFERROR(E27/B27*100,"-") -> - | G27: =IFERROR(E27/D27*100,"-") -> -
A28: 6382 Kapitalne pomoći temeljem prijenosa EU sredstava | B28: 0 | C28: 0 | D28: 0 | E28: 0 | F28: =IFERROR(E28/B28*100,"-") -> - | G28: =IFERROR(E28/D28*100,"-") -> -
A29: 639 Prijenosi između proračunskih korisnika istog proračuna | B29: =B30+B31+B32+B33 -> 14258.87 | C29: 0 | D29: 0 | E29: =E30+E31+E32+E33 -> 122597.1 | F29: =IFERROR(E29/B29*100,"-") -> 859.79534 | G29: =IFERROR(E29/D29*100,"-") -> -
A30: 6391 Tekući prijenosi između proračunskih korisnika istog proračuna | B30: 9736.9 | C30: 0 | D30: 0 | E30: 2470.98 | F30: 25.38 | G30: =IFERROR(E30/D30*100,"-") -> -
A31: 6392 Kapitalni prijenosi između proračunskih korisnika istog proračuna | B31: 0 | C31: 0 | D31: 0 | E31: 0 | F31: =IFERROR(E31/B31*100,"-") -> - | G31: =IFERROR(E31/D31*100,"-") -> -
A32: 6393 Tekući prijenosi između proračunskih korisnika istog proračuna temeljem prijenosa EU sredstava | B32: 4521.97 | C32: 0 | D32: 0 | E32: 9466.55 | F32: 209.35 | G32: =IFERROR(E32/D32*100,"-") -> -
A33: 6394 Kapitalni prijenosi između proračunskih korisnika istog proračuna temeljem prijenosa EU sredstava | B33: 0 | C33: 0 | D33: 0 | E33: 110659.57 | G33: =IFERROR(E33/D33*100,"-") -> -
A35: 64 Prihodi od imovine | B35: =B36 -> 62.15 | C35: 255 | D35: 255 | E35: =E36 -> 21.57 | F35: =IFERROR(E35/B35*100,"-") -> 34.706356 | G35: =IFERROR(E35/D35*100,"-") -> 8.4588235
A36: 641 Prihodi od financijske imovine | B36: =SUM(B37:B40) -> 62.15 | C36: 0 | D36: 0 | E36: =SUM(E37:E40) -> 21.57 | F36: =IFERROR(E36/B36*100,"-") -> 34.706356 | G36: =IFERROR(E36/D36*100,"-") -> -
A37: 6413 Kamate na oročena sredstva i depozite po viđenju | B37: 62.15 | C37: 0 | D37: 0 | E37: 21.57 | F37: 34.71 | G37: =IFERROR(E37/D37*100,"-") -> -
A38: 6414 Prihodi od zateznih kamata | B38: 0 | C38: 0 | D38: 0 | E38: 0 | F38: =IFERROR(E38/B38*100,"-") -> - | G38: =IFERROR(E38/D38*100,"-") -> -
A39: 6415 Prihodi od pozitivnih tečajnih razlika i razlika zbog primjene valutne klauzule | B39: 0 | C39: 0 | D39: 0 | E39: 0 | F39: =IFERROR(E39/B39*100,"-") -> - | G39: =IFERROR(E39/D39*100,"-") -> -
A40: 6419 Ostali prihodi od financijske imovine | B40: 0 | C40: 0 | D40: 0 | E40: 0 | F40: =IFERROR(E40/B40*100,"-") -> - | G40: =IFERROR(E40/D40*100,"-") -> -
A42: 65 Prihodi od upravnih i administrativnih pristojbi, pristojbi po posebnim propisima i naknada | B42: =B43 -> 2960.58 | C42: 6200 | D42: 6200 | E42: =E43 -> 3139.98 | F42: =IFERROR(E42/B42*100,"-") -> 106.05962 | G42: =IFERROR(E42/D42*100,"-") -> 50.644839
A43: 652 Prihodi po posebnim propisima | B43: =B44 -> 2960.58 | C43: 0 | D43: 0 | E43: =E44 -> 3139.98 | F43: =IFERROR(E43/B43*100,"-") -> 106.05962 | G43: =IFERROR(E43/D43*100,"-") -> -
A44: 6526 Ostali nespomenuti prihodi | B44: 2960.58 | C44: 0 | D44: 0 | E44: 3139.98 | F44: 106.06 | G44: =IFERROR(E44/D44*100,"-") -> -
A46: 66 Prihodi od prodaje proizvoda i robe te pruženih usluga i prihodi od donacija te povrati po protestiranim jamstvima | B46: =B47+B50 -> 3068.94 | C46: 4710 | D46: 4710 | E46: 1570.62 | F46: =IFERROR(E46/B46*100,"-") -> 51.177931 | G46: =IFERROR(E46/D46*100,"-") -> 33.346497
A47: 661 Prihodi od prodaje proizvoda i robe te pruženih usluga | B47: =B48+B49 -> 2088.94 | C47: 0 | D47: 0 | E47: =E48+E49 -> 1420.62 | F47: =IFERROR(E47/B47*100,"-") -> 68.00674 | G47: =IFERROR(E47/D47*100,"-") -> -
A48: 6614 Prihodi od prodaje proizvoda i robe | B48: 0 | C48: 0 | D48: 0 | E48: 0 | F48: =IFERROR(E48/B48*100,"-") -> - | G48: =IFERROR(E48/D48*100,"-") -> -
A49: 6615 Prihodi od pruženih usluga | B49: 2088.94 | C49: 0 | D49: 0 | E49: 1420.62 | F49: 68.01 | G49: =IFERROR(E49/D49*100,"-") -> -
A50: 663 Donacije od pravnih i fizičkih osoba izvan općeg proračuna i povrat donacija po protestiranim jamstvima | B50: =B51+B52 -> 980 | C50: 0 | D50: 0 | E50: =E51+E52 -> 150 | F50: =IFERROR(E50/B50*100,"-") -> 15.306122 | G50: =IFERROR(E50/D50*100,"-") -> -
A51: 6631 Tekuće donacije | B51: 980 | C51: 0 | D51: 0 | E51: 150 | F51: 15.31 | G51: =IFERROR(E51/D51*100,"-") -> -
A52: 6632 Kapitalne donacije | B52: 0 | C52: 0 | D52: 0 | E52: 0 | F52: =IFERROR(E52/B52*100,"-") -> - | G52: =IFERROR(E52/D52*100,"-") -> -
A54: 67 Prihodi iz nadležnog proračuna i od HZZO-a temeljem ugovornih obveza | B54: =B55+B60 -> 47396.2 | C54: 92245 | D54: 92245 | E54: =E55+E60 -> 50864.75 | F54: =IFERROR(E54/B54*100,"-") -> 107.3182 | G54: =IFERROR(E54/D54*100,"-") -> 55.140929
A55: 671 Prihodi iz nadležnog proračuna za financiranje redovne djelatnosti proračunskih korisnika | B55: =B56+B57+B58 -> 47396.2 | C55: 0 | D55: 0 | E55: =E56+E57+E58 -> 50864.75 | F55: =IFERROR(E55/B55*100,"-") -> 107.3182 | G55: =IFERROR(E55/D55*100,"-") -> -
A56: 6711 Prihodi iz nadležnog proračuna za financiranje rashoda poslovanja | B56: 46901.95 | C56: 0 | D56: 0 | E56: 48319.25 | F56: 103.02 | G56: =IFERROR(E56/D56*100,"-") -> -
A57: 6712 Prihodi iz nadležnog proračuna za financiranje rashoda za nabavu nefinancoijske imovine | B57: 494.25 | C57: 0 | D57: 0 | E57: 2545.5 | F57: 515.02 | G57: =IFERROR(E57/D57*100,"-") -> -
A58: 6714 Prihodi iz nadležnog proračuna za financiranje izdataka za financijsku imovinu i otplatu zajmova | B58: 0 | C58: 0 | D58: 0 | E58: 0 | F58: =IFERROR(E58/B58*100,"-") -> - | G58: =IFERROR(E58/D58*100,"-") -> -
A60: 673 Prihodi od HZZO-a na temelju ugovornih obveza | B60: =B61 -> 0 | C60: 0 | D60: 0 | E60: =E61 -> 0 | F60: =IFERROR(E60/B60*100,"-") -> - | G60: =IFERROR(E60/D60*100,"-") -> -
A61: 6731 Prihodi od HZZO-a na temelju ugovornih obveza | B61: 0 | C61: 0 | D61: 0 | E61: 0 | F61: =IFERROR(E61/B61*100,"-") -> - | G61: =IFERROR(E61/D61*100,"-") -> -
A63: 68 Kazne, upravne mjere i ostali prihodi | B63: =B64 -> 0 | C63: 0 | D63: 0 | E63: =E64 -> 0 | F63: =IFERROR(E63/B63*100,"-") -> - | G63: =IFERROR(E63/D63*100,"-") -> -
A64: 683 Ostali prihodi | B64: =B65 -> 0 | C64: 0 | D64: 0 | E64: =E65 -> 0 | F64: =IFERROR(E64/B64*100,"-") -> - | G64: =IFERROR(E64/D64*100,"-") -> -
A65: 6831 Ostali prihodi | B65: 0 | C65: 0 | D65: 0 | E65: 0 | F65: =IFERROR(E65/B65*100,"-") -> - | G65: =IFERROR(E65/D65*100,"-") -> -
A69: 7 Prihodi od prodaje nefinancijske imovine | B69: =B70 -> 0 | C69: =C70 -> 0 | D69: =D70 -> 0 | E69: =E70 -> 0 | F69: =IFERROR(E69/B69*100,"-") -> - | G69: =IFERROR(E69/D69*100,"-") -> -
A70: 72 Prihodi od prodaje proizvedene dugotrajne imovine | B70: =B71 -> 0 | C70: 0 | D70: 0 | E70: =E71 -> 0 | F70: =IFERROR(E70/B70*100,"-") -> - | G70: =IFERROR(E70/D70*100,"-") -> -
A71: 721 Prihodi od prodaje građevinskih objekata | B71: =B72 -> 0 | C71: 0 | D71: 0 | E71: =E72 -> 0 | F71: =IFERROR(E71/B71*100,"-") -> - | G71: =IFERROR(E71/D71*100,"-") -> -
A72: 7211 Stambeni objekti | B72: 0 | C72: 0 | D72: 0 | E72: 0 | F72: =IFERROR(E72/B72*100,"-") -> - | G72: =IFERROR(E72/D72*100,"-") -> -
A73: 722 Prihodi od prodaje postrojenja i opreme | B73: =SUM(B74:B76) -> 0 | C73: 0 | D73: 0 | E73: =SUM(E74:E76) -> 0 | F73: =IFERROR(E73/B73*100,"-") -> - | G73: =IFERROR(E73/D73*100,"-") -> -
A74: 7221 Uredska oprema i namještaj | B74: 0 | C74: 0 | D74: 0 | E74: 0 | F74: =IFERROR(E74/B74*100,"-") -> - | G74: =IFERROR(E74/D74*100,"-") -> -
A75: 7222 Komunikacijska oprema | B75: 0 | C75: 0 | D75: 0 | E75: 0 | F75: =IFERROR(E75/B75*100,"-") -> - | G75: =IFERROR(E75/D75*100,"-") -> -
A76: 7227 Uređeji, strojevi i oprema za ostale namjene | B76: 0 | C76: 0 | D76: 0 | E76: 0 | F76: =IFERROR(E76/B76*100,"-") -> - | G76: =IFERROR(E76/D76*100,"-") -> -
A77: 725 Prihodi od prodaje višegodišnjih nasada i osnovnog stada | B77: =B78 -> 0 | C77: 0 | D77: 0 | E77: =E78 -> 0 | F77: =IFERROR(E77/B77*100,"-") -> - | G77: =IFERROR(E77/D77*100,"-") -> -
A78: 7252 Osnovno stado | B78: 0 | C78: 0 | D78: 0 | E78: 0 | F78: =IFERROR(E78/B78*100,"-") -> - | G78: =IFERROR(E78/D78*100,"-") -> -
A81: SVEUKUPNO PRIHODI | B81: =B11+B69 -> 615967.87 | C81: =C11+C69 -> 1872233 | D81: =D11+D69 -> 1872233 | E81: =E11+E69 -> 752924.59 | F81: =IFERROR(E81/B81*100,"-") -> 122.23439 | G81: =IFERROR(E81/D81*100,"-") -> 40.215325
A83: 3 Rashodi poslovanja | B83: =B84+B97+B131+B141+B145+B150 -> 695158.21 | C83: 1249546 | D83: 1249546 | E83: =E84+E97+E131+E141+E145+E150 -> 642598.48 | F83: =IFERROR(E83/B83*100,"-") -> 92.43917 | G83: =IFERROR(E83/D83*100,"-") -> 51.426557
A84: 31 Rashodi za zaposlene | B84: =B85+B90+B92 -> 595666.05 | C84: 1053500 | D84: 1053500 | E84: =E85+E90+E92 -> 542280.06 | F84: =IFERROR(E84/B84*100,"-") -> 91.037597 | G84: =IFERROR(E84/D84*100,"-") -> 51.47414
A85: 311 Plaće (Bruto) | B85: =SUM(B86:B89) -> 494775.04 | C85: 0 | D85: 0 | E85: =SUM(E86:E89) -> 450353.28 | F85: =IFERROR(E85/B85*100,"-") -> 91.021827 | G85: =IFERROR(E85/D85*100,"-") -> -
A86: 3111 Plaće za redovan rad | B86: 487543.49 | C86: 0 | D86: 0 | E86: 444192.21 | F86: 91.11 | G86: =IFERROR(E86/D86*100,"-") -> -
A87: 3112 Plaće u naravi | B87: 0 | C87: 0 | D87: 0 | E87: 0 | F87: =IFERROR(E87/B87*100,"-") -> - | G87: =IFERROR(E87/D87*100,"-") -> -
A88: 3113 Plaće za prekovremeni rad | B88: 3298.34 | C88: 0 | D88: 0 | E88: 2965.02 | F88: 89.89 | G88: =IFERROR(E88/D88*100,"-") -> -
A89: 3114 Plaće za posebne uvjete rada | B89: 3933.21 | C89: 0 | D89: 0 | E89: 3196.05 | F89: 81.26 | G89: =IFERROR(E89/D89*100,"-") -> -
A90: 312 Ostali rashodi za zaposlene | B90: =B91 -> 18951.04 | C90: 0 | D90: 0 | E90: =E91 -> 17403.08 | F90: =IFERROR(E90/B90*100,"-") -> 91.831794 | G90: =IFERROR(E90/D90*100,"-") -> -
A91: 3121 Ostali rashodi za zaposlene | B91: 18951.04 | C91: 0 | D91: 0 | E91: 17403.08 | F91: 91.83 | G91: =IFERROR(E91/D91*100,"-") -> -
A92: 313 Doprinosi na plaće | B92: =SUM(B93:B95) -> 81939.97 | C92: 0 | D92: 0 | E92: =SUM(E93:E95) -> 74523.7 | F92: =IFERROR(E92/B92*100,"-") -> 90.949142 | G92: =IFERROR(E92/D92*100,"-") -> -
A93: 3131 Doprinosi za mirovinsko osiguranje | B93: 0 | C93: 0 | D93: 0 | E93: 0 | F93: =IFERROR(E93/B93*100,"-") -> - | G93: =IFERROR(E93/D93*100,"-") -> -
A94: 3132 Doprinosi za obvezno zdravstveno osiguranje | B94: 81939.97 | C94: 0 | D94: 0 | E94: 74523.7 | F94: 90.95 | G94: =IFERROR(E94/D94*100,"-") -> -
A95: 3133 Doprinosi za obvezno osiguranje u slučaju nezaposlenosti | B95: 0 | C95: 0 | D95: 0 | E95: 0 | F95: =IFERROR(E95/B95*100,"-") -> - | G95: =IFERROR(E95/D95*100,"-") -> -
A97: 32 Materijalni rashodi | B97: 98916.28 | C97: 179416 | D97: 179416 | E97: =E98+E103+E110+E120+E122 -> 100068.96 | F97: =IFERROR(E97/B97*100,"-") -> 101.16531 | G97: =IFERROR(E97/D97*100,"-") -> 55.774825
A98: 321 Naknade troškova zaposlenima | B98: 28416.03 | C98: 0 | D98: 0 | E98: 26791.37 | F98: =IFERROR(E98/B98*100,"-") -> 94.282593 | G98: =IFERROR(E98/D98*100,"-") -> -
A99: 3211 Službena putovanja | B99: 4150.52 | C99: 0 | D99: 0 | E99: 2315.96 | F99: 55.8 | G99: =IFERROR(E99/D99*100,"-") -> -
A100: 3212 Naknade za prijevoz, za rad na terenu i odvojeni život | B100: 24023.11 | C100: 0 | D100: 0 | E100: 24049.79 | F100: 100.11 | G100: =IFERROR(E100/D100*100,"-") -> -
A101: 3213 Stručno usavršavanje zaposlenika | B101: 200 | C101: 0 | D101: 0 | E101: 100 | F101: 50 | G101: =IFERROR(E101/D101*100,"-") -> -
A102: 3214 Ostale naknade troškova zaposlenima | B102: 42.4 | C102: 0 | D102: 0 | E102: 325.62 | F102: 767.97 | G102: =IFERROR(E102/D102*100,"-") -> -
A103: 322 Rashodi za materijal i energiju | B103: =SUM(B104:B109) -> 48501.07 | C103: 0 | D103: 0 | E103: =SUM(E104:E109) -> 51830.25 | F103: =IFERROR(E103/B103*100,"-") -> 106.86414 | G103: =IFERROR(E103/D103*100,"-") -> -
A104: 3221 Uredski materijal i ostali materijalni rashodi | B104: 4584.22 | C104: 0 | D104: 0 | E104: 7558.27 | F104: 164.88 | G104: =IFERROR(E104/D104*100,"-") -> -
A105: 3222 Materijal i sirovine | B105: 23096.06 | C105: 0 | D105: 0 | E105: 23716.97 | F105: 102.69 | G105: =IFERROR(E105/D105*100,"-") -> -
A106: 3223 Energija | B106: 19471.45 | C106: 0 | D106: 0 | E106: 18091.19 | F106: 92.91 | G106: =IFERROR(E106/D106*100,"-") -> -
A107: 3224 Materijal i dijelovi za tekuće i investicijsko održavanje | B107: 104.79 | C107: 0 | D107: 0 | E107: 174.02 | F107: 166.07 | G107: =IFERROR(E107/D107*100,"-") -> -
A108: 3225 Sitni inventar i auto gume | B108: 1156.99 | C108: 0 | D108: 0 | E108: 2221.05 | F108: 191.97 | G108: =IFERROR(E108/D108*100,"-") -> -
A109: 3227 Službena, radna i zaštitna odjeća i obuća | B109: 87.56 | C109: 0 | D109: 0 | E109: 68.75 | F109: 78.52 | G109: =IFERROR(E109/D109*100,"-") -> -
A110: 323 Rashodi za usluge | B110: =SUM(B111:B119) -> 16953.32 | C110: 0 | D110: 0 | E110: =SUM(E111:E119) -> 16181.22 | F110: =IFERROR(E110/B110*100,"-") -> 95.44573 | G110: =IFERROR(E110/D110*100,"-") -> -
A111: 3231 Usluge telefona, pošte i prijevoza | B111: 967 | C111: 0 | D111: 0 | E111: 852.12 | F111: 88.12 | G111: =IFERROR(E111/D111*100,"-") -> -
A112: 3232 Usluge tekućeg i investicijskog održavanja | B112: 8717.5 | C112: 0 | D112: 0 | E112: 2334.88 | F112: 26.78 | G112: =IFERROR(E112/D112*100,"-") -> -
A113: 3233 Usluge promidžbe i informiranja | B113: 700 | C113: 0 | D113: 0 | E113: 1975 | F113: 282.14 | G113: =IFERROR(E113/D113*100,"-") -> -
A114: 3234 Komunalne usluge | B114: 2748.57 | C114: 0 | D114: 0 | E114: 5816.7 | F114: 211.63 | G114: =IFERROR(E114/D114*100,"-") -> -
A115: 3235 Zakupnine i najamnine | B115: 284.65 | C115: 0 | D115: 0 | E115: 604.74 | F115: 212.45 | G115: =IFERROR(E115/D115*100,"-") -> -
A116: 3236 Zdravstvene i veterinarske usluge | B116: 457.18 | C116: 0 | D116: 0 | E116: 601.83 | F116: 131.64 | G116: =IFERROR(E116/D116*100,"-") -> -
A117: 3237 Intelektualne i osobne usluge | B117: 2087.6 | C117: 0 | D117: 0 | E117: 2298.51 | F117: 110.1 | G117: =IFERROR(E117/D117*100,"-") -> -
...

Sheet P i R -Tablica 2.
A2: Tablica 2. Izvještaj o prihodima i rashodima prema izvorima financiranja
A4: Brojčana oznaka i naziv izvora financiranja | B4: ='Sažetak '!B13 -> Ostvarenje / izvršenje 01.01.-30.06.'25. | C4: ='Sažetak '!C13 -> Izvorni plan 2026. | D4: ='Sažetak '!D13 -> Tekući plan 2026. | E4: ='Sažetak '!E13 -> Ostvarenje / izvršenje 01.01.-30.06.'26. | F4: Indeks % | G4: Indeks %
A5: 1 | B5: 2 | C5: 3 | D5: 4 | E5: 5 | F5: 6=5/2*100 | G5: 7=5/4*100
A6: PRIHODI PO IZVORIMA FINANCIRANJA
A7: Izvor: 1 OPĆI PRIHODI I PRIMICI | B7: 11436.9 | C7: 108760 | D7: 108760 | E7: 7656.53 | F7: 66.95 | G7: =IFERROR(E7/D7*100,"-") -> 7.03984
A8: Izvor: 11 Opći prihodi i primici | B8: 11436.9 | C8: 108760 | D8: 108760 | E8: 7656.53 | F8: 66.95 | G8: =IFERROR(E8/D8*100,"-") -> 7.03984
A9: Izvor: 3 VLASTITI PRIHODI | B9: 2151.09 | C9: 3665 | D9: 3665 | E9: 1442.19 | F9: 67.04 | G9: =IFERROR(E9/D9*100,"-") -> 39.350341
A10: Izvor: 31 Vlastiti prihodi | B10: 2151.09 | C10: 3665 | D10: 3665 | E10: 1442.19 | F10: 67.04 | G10: =IFERROR(E10/D10*100,"-") -> 39.350341
A11: Izvor: 4 PRIHODI ZA POSEBNE NAMJENE | B11: 48656.78 | C11: 98045 | D11: 98045 | E11: 48819.18 | F11: 100.33 | G11: =IFERROR(E11/D11*100,"-") -> 49.792626
A12: Izvor: 43 Ostali prihodi za posebne namjene | B12: 2960.58 | C12: 6200 | D12: 6200 | E12: 3139.98 | F12: 106.06 | G12: =IFERROR(E12/D12*100,"-") -> 50.644839
A13: Izvor: 44 Decentralizirana sredstva | B13: 45696.2 | C13: 91845 | D13: 91845 | E13: 45679.2 | F13: 99.96 | G13: =IFERROR(E13/D13*100,"-") -> 49.735097
A14: Izvor: 5 POMOĆI | B14: 552743.1 | C14: 1660463 | D14: 1660463 | E14: 694856.69 | F14: 125.71 | G14: =IFERROR(E14/D14*100,"-") -> 41.847165
A15: Izvor: 50 Pomoći iz državnog proračuna | B15: 0 | C15: 7585 | D15: 7585 | E15: 0
A16: Izvor: 51 Pomoći EU | B16: 4521.97 | C16: 0 | D16: 0 | E16: 0 | G16: =IFERROR(E16/D16*100,"-") -> -
A17: Izvor: 52 Ostale pomoći | B17: 548221.13 | C17: 1123810 | D17: 1123810 | E17: 574730.57 | F17: 104.84 | G17: =IFERROR(E17/D17*100,"-") -> 51.141258
A18: Izvor: 56 Fondovi EU | B18: 0 | C18: 14660 | D18: 14660 | E18: 8666.55 | G18: 59.12
A19: Izvor: 58 Instrumenti EU nove generacije | B19: 0 | C19: 514408 | D19: 514408 | E19: 111459.57 | G19: 21.67
A20: Izvor: 6 DONACIJE | B20: 980 | C20: 1300 | D20: 1300 | E20: 150 | F20: 15.31 | G20: =IFERROR(E20/D20*100,"-") -> 11.538462
A21: Izvor: 61 Donacije | B21: 980 | C21: 1300 | D21: 1300 | E21: 150 | F21: 15.31 | G21: =IFERROR(E21/D21*100,"-") -> 11.538462
A22: Izvor: 7 PRIHODI OD NEFIN. IMOVINE I NADOKNADE ŠTETA S OSNOVA OSIGURANJA | B22: =B23+B24 -> 0 | C22: =C23+C24 -> 0 | D22: =D23+D24 -> 0 | E22: =E23+E24 -> 0 | F22: =IFERROR(E22/B22*100,"-") -> - | G22: =IFERROR(E22/D22*100,"-") -> -
A23: Izvor: 71 Prihodi od nefinancijske imovine | B23: 0 | C23: 0 | D23: 0 | E23: 0 | F23: =IFERROR(E23/B23*100,"-") -> - | G23: =IFERROR(E23/D23*100,"-") -> -
A24: Izvor: 72 Prihodi od nadoknade šteta s osnova osiguranja | B24: 0 | C24: 0 | D24: 0 | E24: 0 | F24: =IFERROR(E24/B24*100,"-") -> - | G24: =IFERROR(E24/D24*100,"-") -> -
A26: SVEUKUPNO PRIHODI | B26: =B7+B9+B11+B14+B20+B22 -> 615967.87 | C26: =C7+C9+C11+C14+C20+C22 -> 1872233 | D26: =D7+D9+D11+D14+D20+D22 -> 1872233 | E26: =E7+E9+E11+E14+E20+E22 -> 752924.59 | F26: =IFERROR(E26/B26*100,"-") -> 122.23439 | G26: =IFERROR(E26/D26*100,"-") -> 40.215325
A30: RASHODI PO IZVORIMA FINANCIRANJA
A31: Izvor: 1 OPĆI PRIHODI I PRIMICI | B31: 10656.26 | C31: 108760 | D31: 108760 | E31: 6192.98 | F31: 58.12 | G31: =IFERROR(E31/D31*100,"-") -> 5.6941707
A32: Izvor: 11 Opći prihodi i primici | B32: 10656.26 | C32: 108760 | D32: 108760 | E32: 6192.98 | F32: 58.12 | G32: =IFERROR(E32/D32*100,"-") -> 5.6941707
A33: Izvor: 3 VLASTITI PRIHODI | B33: 2479.73 | C33: 4415 | D33: 4415 | E33: 3309.4 | F33: 133.46 | G33: =IFERROR(E33/D33*100,"-") -> 74.958097
A34: Izvor: 31 Vlastiti prihodi | B34: 2479.73 | C34: 4415 | D34: 4415 | E34: 3309.4 | F34: 133.46 | G34: =IFERROR(E34/D34*100,"-") -> 74.958097
A35: Izvor: 4 PRIHODI ZA POSEBNE NAMJENE | B35: 46840.64 | C35: 97695 | D35: 97695 | E35: 48531.76 | F35: 103.61 | G35: =IFERROR(E35/D35*100,"-") -> 49.67681
A36: Izvor: 43 Ostali prihodi za posebne namjene | B36: 2729.16 | C36: 5850 | D36: 5850 | E36: 2945.95 | F36: 107.94 | G36: =IFERROR(E36/D36*100,"-") -> 50.35812
A37: Izvor: 44 Decentralizirana sredstva | B37: 44111.48 | C37: 91845 | D37: 91845 | E37: 45585.81 | F37: 103.34 | G37: =IFERROR(E37/D37*100,"-") -> 49.633415
A38: Izvor: 5 POMOĆI | B38: 635795.83 | C38: 1661163 | D38: 1661163 | E38: 744430.34 | F38: 117.09 | G38: =IFERROR(E38/D38*100,"-") -> 44.813805
A39: Izvor: 50 Pomoći iz državnog proračuna | B39: 0 | C39: 7585 | D39: 7585 | E39: 0
A40: Izvor: 51 Pomoći EU | B40: 4521.97 | C40: 0 | D40: 0 | E40: 0 | G40: =IFERROR(E40/D40*100,"-") -> -
A41: Izvor: 52 Ostale pomoći | B41: 631273.86 | C41: 1124510 | D41: 1124510 | E41: 577265.92 | F41: 91.44 | G41: 51.33
A42: Izvor: 56 Fondovi EU | B42: 0 | C42: 14660 | D42: 14660 | E42: 9686.42 | G42: 66.07
A43: Izvor: 58 Instrumenti EU nove generacije | B43: 0 | C43: 514408 | D43: 514408 | E43: 157478 | G43: 30.61
A44: Izvor: 6 DONACIJE | B44: 980 | C44: 1350 | D44: 1350 | E44: 570 | F44: 58.16 | G44: 42.22
A45: Izvor: 61 Donacije | B45: 980 | C45: 1350 | D45: 1350 | E45: 570 | F45: 58.16 | G45: =IFERROR(E45/D45*100,"-") -> 42.222222
A46: Izvor: 7 PRIHODI OD NEFIN. IMOVINE I NADOKNADE ŠTETA S OSNOVA OSIGURANJA | B46: =B47+B48 -> 0 | C46: =C47+C48 -> 0 | D46: =D47+D48 -> 0 | E46: =E47+E48 -> 0 | F46: =IFERROR(E46/B46*100,"-") -> - | G46: =IFERROR(E46/D46*100,"-") -> -
A47: Izvor: 71 Prihodi od nefinancijske imovine | B47: 0 | C47: 0 | D47: 0 | E47: 0 | F47: =IFERROR(E47/B47*100,"-") -> - | G47: =IFERROR(E47/D47*100,"-") -> -
A48: Izvor: 72 Prihodi od nadoknade šteta s osnova osiguranja | B48: 0 | C48: 0 | D48: 0 | E48: 0 | F48: =IFERROR(E48/B48*100,"-") -> - | G48: =IFERROR(E48/D48*100,"-") -> -
A49: Izvor: 8 NAMJENSKI PRIMICI OD ZADUŽIVANJA | B49: =B50 -> 0 | C49: =C50 -> 0 | D49: =D50 -> 0 | E49: =E50 -> 0 | F49: =IFERROR(E49/B49*100,"-") -> - | G49: =IFERROR(E49/D49*100,"-") -> -
A50: Izvor: 81 Namjenski primici od zaduživanja | B50: 0 | C50: 0 | D50: 0 | E50: 0 | F50: =IFERROR(E50/B50*100,"-") -> - | G50: =IFERROR(E50/D50*100,"-") -> -
A52: SVEUKUPNO RASHODI | B52: =B31+B33+B35+B38+B44+B46+B49 -> 696752.46 | C52: =C31+C33+C35+C38+C44+C46+C49 -> 1873383 | D52: =D31+D33+D35+D38+D44+D46+D49 -> 1873383 | E52: =E31+E33+E35+E38+E44+E46+E49 -> 803034.48 | F52: =IFERROR(E52/B52*100,"-") -> 115.25391 | G52: =IFERROR(E52/D52*100,"-") -> 42.865473

Sheet R -Tablica 3.
A1: Tablica 3. Izvještaj o rashodima prema funkcijskoj klasifikaciji
A3: Brojčana oznaka i naziv funkcijske klasifikacije | B3: Izvršenje 01.01.-30.06.25. | C3: ='Sažetak '!C13 -> Izvorni plan 2026. | D3: ='Sažetak '!D13 -> Tekući plan 2026. | E3: Izvršenje 01.01.-30.06.26. | F3: Indeks % | G3: Indeks %
A4: 1 | B4: 2 | C4: 3 | D4: 4 | E4: 5 | F4: 6=5/2*100 | G4: 7=5/4*100
A5: RASHODI PREMA FUNKCIJSKOJ KLASIFIKACIJI
A6: Funk. klas: 04 Ekonomski poslovi | B6: =SUM(B7:B11) -> 0 | C6: =SUM(C7:C11) -> 0 | D6: =SUM(D7:D11) -> 0 | E6: =SUM(E7:E11) -> 0 | F6: =IFERROR(E6/B6*100,"-") -> - | G6: =IFERROR(E6/D6*100,"-") -> -
A7: 042 Poljoprivreda, šumarstvo, ribarstvo i lov | B7: 0 | C7: 0 | D7: 0 | E7: 0 | F7: =IFERROR(E7/B7*100,"-") -> - | G7: =IFERROR(E7/D7*100,"-") -> -
A8: 043 Gorivo i energija | B8: 0 | C8: 0 | D8: 0 | E8: 0 | F8: =IFERROR(E8/B8*100,"-") -> - | G8: =IFERROR(E8/D8*100,"-") -> -
A9: 044 Rudarstvo, proizvodnja i građevinarstvo | B9: 0 | C9: 0 | D9: 0 | E9: 0 | F9: =IFERROR(E9/B9*100,"-") -> - | G9: =IFERROR(E9/D9*100,"-") -> -
A10: 045 Promet | B10: 0 | C10: 0 | D10: 0 | E10: 0 | F10: =IFERROR(E10/B10*100,"-") -> - | G10: =IFERROR(E10/D10*100,"-") -> -
A11: 047 Ostale industrije | B11: 0 | C11: 0 | D11: 0 | E11: 0 | F11: =IFERROR(E11/B11*100,"-") -> - | G11: =IFERROR(E11/D11*100,"-") -> -
A12: Funk. klas: 05 Zaštita okoliša | B12: =SUM(B13:B16) -> 0 | C12: =SUM(C13:C16) -> 0 | D12: =SUM(D13:D16) -> 0 | E12: =SUM(E13:E16) -> 0 | F12: =IFERROR(E12/B12*100,"-") -> - | G12: =IFERROR(E12/D12*100,"-") -> -
A13: 051 Gospodarenje otpadom | B13: 0 | C13: 0 | D13: 0 | E13: 0 | F13: =IFERROR(E13/B13*100,"-") -> - | G13: =IFERROR(E13/D13*100,"-") -> -
A14: 053 Smanjenje zagađivanja | B14: 0 | C14: 0 | D14: 0 | E14: 0 | F14: =IFERROR(E14/B14*100,"-") -> - | G14: =IFERROR(E14/D14*100,"-") -> -
A15: 054 Zaštita bioraznolikosti i krajolika | B15: 0 | C15: 0 | D15: 0 | E15: 0 | F15: =IFERROR(E15/B15*100,"-") -> - | G15: =IFERROR(E15/D15*100,"-") -> -
A16: 056 Poslovi i usluge zaštite okoliša koji nisu drugdje svrstani | B16: 0 | C16: 0 | D16: 0 | E16: 0 | F16: =IFERROR(E16/B16*100,"-") -> - | G16: =IFERROR(E16/D16*100,"-") -> -
A17: Funk. klas: 07 Zdravstvo | B17: =SUM(B18:B23) -> 0 | C17: =SUM(C18:C23) -> 0 | D17: =SUM(D18:D23) -> 0 | E17: =SUM(E18:E23) -> 0 | F17: =IFERROR(E17/B17*100,"-") -> - | G17: =IFERROR(E17/D17*100,"-") -> -
A18: 071 Medicinski proizvodi, pribor i oprema | B18: 0 | C18: 0 | D18: 0 | E18: 0 | F18: =IFERROR(E18/B18*100,"-") -> - | G18: =IFERROR(E18/D18*100,"-") -> -
A19: 072 Službe za vanjske pacijente | B19: 0 | C19: 0 | D19: 0 | E19: 0 | F19: =IFERROR(E19/B19*100,"-") -> - | G19: =IFERROR(E19/D19*100,"-") -> -
A20: 073 Bolničke službe | B20: 0 | C20: 0 | D20: 0 | E20: 0 | F20: =IFERROR(E20/B20*100,"-") -> - | G20: =IFERROR(E20/D20*100,"-") -> -
A21: 074 Službe javnog zdravstva | B21: 0 | C21: 0 | D21: 0 | E21: 0 | F21: =IFERROR(E21/B21*100,"-") -> - | G21: =IFERROR(E21/D21*100,"-") -> -
A22: 075 Istraživanje i razvoj zdravstva | B22: 0 | C22: 0 | D22: 0 | E22: 0 | F22: =IFERROR(E22/B22*100,"-") -> - | G22: =IFERROR(E22/D22*100,"-") -> -
A23: 076 Poslovi i usluge zdravstva koji nisu drugdje svrstani | B23: 0 | C23: 0 | D23: 0 | E23: 0 | F23: =IFERROR(E23/B23*100,"-") -> - | G23: =IFERROR(E23/D23*100,"-") -> -
A24: Funk. klas: 09 Obrazovanje | B24: =SUM(B25:B31) -> 696752.46 | C24: =SUM(C25:C31) -> 1873383 | D24: =SUM(D25:D31) -> 1873383 | E24: =SUM(E25:E31) -> 803034.48 | F24: =IFERROR(E24/B24*100,"-") -> 115.25391 | G24: =IFERROR(E24/D24*100,"-") -> 42.865473
A25: 091 Predškolsko i osnovno obrazovanje | B25: 696434.46 | C25: 1870953 | D25: 1870953 | E25: 803034.48 | F25: 115.31 | G25: =IFERROR(E25/D25*100,"-") -> 42.921147
A26: 092 Srednjoškolsko obrazovanje | B26: 0 | C26: 0 | D26: 0 | E26: 0 | F26: =IFERROR(E26/B26*100,"-") -> - | G26: =IFERROR(E26/D26*100,"-") -> -
A27: 094 Visoka naobrazba | B27: 0 | C27: 0 | D27: 0 | E27: 0 | F27: =IFERROR(E27/B27*100,"-") -> - | G27: =IFERROR(E27/D27*100,"-") -> -
A28: 095 Obrazovanje koje se ne može definirati po stupnju | B28: 0 | C28: 110 | D28: 110 | E28: 0 | G28: =IFERROR(E28/D28*100,"-") -> 0
A29: 096 Dodatne usluge u obrazovanju | B29: 0 | C29: 2000 | D29: 2000 | E29: 0 | G29: =IFERROR(E29/D29*100,"-") -> 0
A30: 097 Istraživanje i razvoj obrazovanja | B30: 0 | C30: 0 | D30: 0 | E30: 0 | F30: =IFERROR(E30/B30*100,"-") -> - | G30: =IFERROR(E30/D30*100,"-") -> -
A31: 098 Usluge obrazovanja koje nisu drugdje svrstane | B31: 318 | C31: 320 | D31: 320 | E31: 0 | G31: =IFERROR(E31/D31*100,"-") -> 0
A32: Funk. klas: 10 Socijalna zaštita | B32: =SUM(B33:B36) -> 0 | C32: =SUM(C33:C36) -> 0 | D32: =SUM(D33:D36) -> 0 | E32: =SUM(E33:E36) -> 0 | F32: =IFERROR(E32/B32*100,"-") -> - | G32: =IFERROR(E32/D32*100,"-") -> -
A33: 102 Starost | B33: 0 | C33: 0 | D33: 0 | E33: 0 | F33: =IFERROR(E33/B33*100,"-") -> - | G33: =IFERROR(E33/D33*100,"-") -> -
A34: 106 Stanovanje | B34: 0 | C34: 0 | D34: 0 | E34: 0 | F34: =IFERROR(E34/B34*100,"-") -> - | G34: =IFERROR(E34/D34*100,"-") -> -
A35: 107 Socijalna pomoć stanovništvu koje nije obuhvaćeno redovnim socijalnim programima | B35: 0 | C35: 0 | D35: 0 | E35: 0 | F35: =IFERROR(E35/B35*100,"-") -> - | G35: =IFERROR(E35/D35*100,"-") -> -
A36: 109 Aktivnosti socijalne zaštite koje nisu drugdje svrstane | B36: 0 | C36: 0 | D36: 0 | E36: 0 | F36: =IFERROR(E36/B36*100,"-") -> - | G36: =IFERROR(E36/D36*100,"-") -> -
A38: SVEUKUPNO RASHODI | B38: =B6+B12+B17+B24+B32 -> 696752.46 | C38: =C6+C12+C17+C24+C32 -> 1873383 | D38: =D6+D12+D17+D24+D32 -> 1873383 | E38: =E6+E12+E17+E24+E32 -> 803034.48 | F38: =IFERROR(E38/B38*100,"-") -> 115.25391 | G38: =IFERROR(E38/D38*100,"-") -> 42.865473

Sheet Rač fin-Tablica 4.
A1: B. RAČUN FINANCIRANJA
A3: Tablica 4. Izvještaj računa financiranja prema ekonomskoj klasifikaciji
A5: Brojčana oznaka i naziv računa primitaka i izdataka | B5: ='Sažetak '!B13 -> Ostvarenje / izvršenje 01.01.-30.06.'25. | C5: ='Sažetak '!C13 -> Izvorni plan 2026. | D5: ='Sažetak '!D13 -> Tekući plan 2026. | E5: ='Sažetak '!E13 -> Ostvarenje / izvršenje 01.01.-30.06.'26. | F5: Indeks % | G5: Indeks %
A6: 1 | B6: 2 | C6: 3 | D6: 4 | E6: 5 | F6: 6=5/2*100 | G6: 7=5/4*100
A7: 8 Primici od financijske imovine i zaduživanja
A8: 84 Primici od zaduživanja | B8: =B9+B11 -> 0 | C8: =C9+C11 -> 0 | D8: =D9+D11 -> 0 | E8: =E9+E11 -> 0 | F8: =IFERROR(E8/B8*100,"-") -> - | G8: =IFERROR(E8/D8*100,"-") -> -
A9: 842 Primljeni krediti i zajmovi od kreditnih i ostalih financijskih institucija u javnom sektoru | B9: =B10 -> 0 | C9: =C10 -> 0 | D9: =D10 -> 0 | E9: =E10 -> 0 | F9: =IFERROR(E9/B9*100,"-") -> - | G9: =IFERROR(E9/D9*100,"-") -> -
A10: 8422 Primljeni krediti od kreditnih institucija u javnom sektoru | B10: 0 | C10: 0 | D10: 0 | E10: 0 | F10: =IFERROR(E10/B10*100,"-") -> - | G10: =IFERROR(E10/D10*100,"-") -> -
A11: 844 Primljeni krediti i zajmovi od kreditnih i ostalih financijskih institucija izvan javnog sektora | B11: =B12 -> 0 | C11: =C12 -> 0 | D11: =D12 -> 0 | E11: =E12 -> 0 | F11: =IFERROR(E11/B11*100,"-") -> - | G11: =IFERROR(E11/D11*100,"-") -> -
A12: 8443 Primljeni krediti od tuzemnih kreditnih institucija izvan javnog sektora | B12: 0 | C12: 0 | D12: 0 | E12: 0 | F12: =IFERROR(E12/B12*100,"-") -> - | G12: =IFERROR(E12/D12*100,"-") -> -
A14: SVEUKUPNO PRIMICI | B14: =B8 -> 0 | C14: =C8 -> 0 | D14: =D8 -> 0 | E14: =E8 -> 0 | F14: =IFERROR(E14/B14*100,"-") -> - | G14: =IFERROR(E14/D14*100,"-") -> -
A16: 5 Izdaci za financijsku imovinu i otplate zajmova | F16: =IFERROR(E16/B16*100,"-") -> - | G16: =IFERROR(E16/D16*100,"-") -> -
A17: 54 Izdaci za otplatu glavnice primljenih kredita i zajmova | B17: =B18+B20 -> 0 | C17: =C18+C20 -> 0 | D17: =D18+D20 -> 0 | E17: =E18+E20 -> 0 | F17: =IFERROR(E17/B17*100,"-") -> - | G17: =IFERROR(E17/D17*100,"-") -> -
A18: 542 Otplata glavnice primljenih kredita i zajmova od kreditnih i ostalih financijskih institucija u javnom sektoru | B18: =B19 -> 0 | C18: =C19 -> 0 | D18: =D19 -> 0 | E18: =E19 -> 0 | F18: =IFERROR(E18/B18*100,"-") -> - | G18: =IFERROR(E18/D18*100,"-") -> -
A19: 5422 Otplata glavnice primljenih kredita od kreditnih institucija u javnom sektoru | B19: 0 | C19: 0 | D19: 0 | E19: 0 | F19: =IFERROR(E19/B19*100,"-") -> - | G19: =IFERROR(E19/D19*100,"-") -> -
A20: 544 Otplata glavnice primljenih kredita i zajmova od kreditnih i ostalih financijskih institucija izvan javnog sektora | B20: =B21+B22 -> 0 | C20: =C21+C22 -> 0 | D20: =D21+D22 -> 0 | E20: =E21+E22 -> 0 | F20: =IFERROR(E20/B20*100,"-") -> - | G20: =IFERROR(E20/D20*100,"-") -> -
A21: 5443 Otplata glavnice primljenih kredita od tuzemnih kreditnih institucija izvan javnog sektora | B21: 0 | C21: 0 | D21: 0 | E21: 0 | F21: =IFERROR(E21/B21*100,"-") -> - | G21: =IFERROR(E21/D21*100,"-") -> -
A22: 5445 Otplata glavnice primljenih zajmova od ostalih tuzemnih financijskih institucija izvan javnog sektora | B22: 0 | C22: 0 | D22: 0 | E22: 0 | F22: =IFERROR(E22/B22*100,"-") -> - | G22: =IFERROR(E22/D22*100,"-") -> -
A24: SVEUKUPNO IZDACI | B24: =B17 -> 0 | C24: =C17 -> 0 | D24: =D17 -> 0 | E24: =E17 -> 0 | F24: =IFERROR(E24/B24*100,"-") -> - | G24: =IFERROR(E24/D24*100,"-") -> -

Sheet Rač fin-Tablica 5.
A1: Tablica 5. Izvještaj računa financiranja prema izvorima financiranja
A3: Brojčana oznaka i naziv izvora financiranja | B3: ='Sažetak '!B13 -> Ostvarenje / izvršenje 01.01.-30.06.'25. | C3: ='Sažetak '!C13 -> Izvorni plan 2026. | D3: ='Sažetak '!D13 -> Tekući plan 2026. | E3: ='Sažetak '!E13 -> Ostvarenje / izvršenje 01.01.-30.06.'26. | F3: Indeks % | G3: Indeks %
A4: 1 | B4: 2 | C4: 3 | D4: 4 | E4: 5 | F4: 6=5/2*100 | G4: 7=5/4*100
A5: PRIMICI PO IZVORIMA FINANCIRANJA
A6: Izvor: 1 OPĆI PRIHODI I PRIMICI | B6: =B7 -> 0 | C6: =C7 -> 0 | D6: =D7 -> 0 | E6: =E7 -> 0 | F6: =IFERROR(E6/B6*100,"-") -> - | G6: =IFERROR(E6/D6*100,"-") -> -
A7: Izvor: 11 Opći prihodi i primici | B7: 0 | C7: 0 | D7: 0 | E7: 0 | F7: =IFERROR(E7/B7*100,"-") -> - | G7: =IFERROR(E7/D7*100,"-") -> -
A8: Izvor: 4 PRIHODI ZA POSEBNE NAMJENE | B8: =B9 -> 0 | C8: =C9 -> 0 | D8: =D9 -> 0 | E8: =E9 -> 0 | F8: =IFERROR(E8/B8*100,"-") -> - | G8: =IFERROR(E8/D8*100,"-") -> -
A9: Izvor: 43 Ostali prihodi za posebne namjene | B9: 0 | C9: 0 | D9: 0 | E9: 0 | F9: =IFERROR(E9/B9*100,"-") -> - | G9: =IFERROR(E9/D9*100,"-") -> -
A10: Izvor: 8 NAMJENSKI PRIMICI OD ZADUŽIVANJA | B10: =B11 -> 0 | C10: =C11 -> 0 | D10: =D11 -> 0 | E10: =E11 -> 0 | F10: =IFERROR(E10/B10*100,"-") -> - | G10: =IFERROR(E10/D10*100,"-") -> -
A11: Izvor: 81 Namjenski primici od zaduživanja | B11: 0 | C11: 0 | D11: 0 | E11: 0 | F11: =IFERROR(E11/B11*100,"-") -> - | G11: =IFERROR(E11/D11*100,"-") -> -
A13: SVEUKUPNO PRIMICI | B13: =B6+B8+B10 -> 0 | C13: =C6+C8+C10 -> 0 | D13: =D6+D8+D10 -> 0 | E13: =E6+E8+E10 -> 0 | F13: =IFERROR(E13/B13*100,"-") -> - | G13: =IFERROR(E13/D13*100,"-") -> -
A16: IZDACI PO IZVORIMA FINANCIRANJA
A17: Izvor: 1 OPĆI PRIHODI I PRIMICI | B17: =B18 -> 0 | C17: =C18 -> 0 | D17: =D18 -> 0 | E17: =E18 -> 0 | F17: =IFERROR(E17/B17*100,"-") -> - | G17: =IFERROR(E17/D17*100,"-") -> -
A18: Izvor: 11 Opći prihodi i primici | B18: 0 | C18: 0 | D18: 0 | E18: 0 | F18: =IFERROR(E18/B18*100,"-") -> - | G18: =IFERROR(E18/D18*100,"-") -> -
A19: Izvor: 4 PRIHODI ZA POSEBNE NAMJENE | B19: =B20+B21 -> 0 | C19: =C20+C21 -> 0 | D19: =D20+D21 -> 0 | E19: =E20+E21 -> 0 | F19: =IFERROR(E19/B19*100,"-") -> - | G19: =IFERROR(E19/D19*100,"-") -> -
A20: Izvor: 43 Ostali prihodi za posebne namjene | B20: 0 | C20: 0 | D20: 0 | E20: 0 | F20: =IFERROR(E20/B20*100,"-") -> - | G20: =IFERROR(E20/D20*100,"-") -> -
A21: Izvor: 44 Decentralizirana sredstva | B21: 0 | C21: 0 | D21: 0 | E21: 0 | F21: =IFERROR(E21/B21*100,"-") -> - | G21: =IFERROR(E21/D21*100,"-") -> -
A23: SVEUKUPNO IZDACI | B23: =B17+B19 -> 0 | C23: =C17+C19 -> 0 | D23: =D17+D19 -> 0 | E23: =E17+E19 -> 0 | F23: =IFERROR(E23/B23*100,"-") -> - | G23: =IFERROR(E23/D23*100,"-") -> -

Sheet Posebni dio-Tablica 6.
A1: II. POSEBNI DIO
A3: Članak 3.
A5: Rashodi i izdaci u Posebnom dijelu Financijskog plana iskazani po programskoj klasifikaciji, izvršeni su kako slijedi:
A7: Tablica 6. Izvještaj po programskoj klasifikaciji
A9: Brojčana oznaka i naziv proračunskog korisnika, izvora financiranja, programa, aktivnosti i projekta te računa ekonomske klasifikacije | B9: ='Sažetak '!C13 -> Izvorni plan 2026. | C9: ='Sažetak '!D13 -> Tekući plan 2026. | D9: ='Sažetak '!E13 -> Ostvarenje / izvršenje 01.01.-30.06.'26. | E9: Indeks %
A10: 1 | B10: 2 | C10: 3 | D10: 4 | E10: 5=4/3*100
A12: Razdjel: 015 UPRAVNI ODJEL ZA PROSVJETU, KULTURU I SPORT | B12: 1873383 | C12: 1873383 | D12: 803034.48 | E12: 42.87
A13: Glava: 01502 OSNOVNO ŠKOLSKO OBRAZOVANJE | B13: 1873383 | C13: 1873383 | D13: 803034.48 | E13: 42.87
A14: 13828 OŠ IZIDORA POLJAKA, DONJA VIŠNJICA
A15: Izvor: 11 Opći prihodi i primici | B15: 108760 | C15: 108760 | D15: 6192.98 | E15: 5.69
A16: Izvor: 31 Vlastiti prihodi | B16: 4415 | C16: 4415 | D16: 3309.4 | E16: 74.96
A17: Izvor: 43 Ostali prihodi za posebne namjene | B17: 5850 | C17: 5850 | D17: 2945.95 | E17: 50.36
A18: Izvor: 44 Decentralizirana sredstva | B18: 91845 | C18: 91845 | D18: 45585.81 | E18: 49.63
A19: Izvor: 50 Pomoći iz državnog proračuna | B19: 7585 | C19: 7585 | D19: 0 | E19: 0
A20: Izvor: 52 Ostale pomoći | B20: 1124510 | C20: 1124510 | D20: 577265.92 | E20: 51.33
A21: Izvor: 56 Fondovi EU | B21: 14660 | C21: 14660 | D21: 9686.42 | E21: 66.07
A22: Izvor: 58 Instrumenti EU nove generacije | B22: 514408 | C22: 514408 | D22: 157478 | E22: 30.61
A23: Izvor: 61 Donacije | B23: 1350 | C23: 1350 | D23: 570 | E23: 42.22
A24: Izvor: 71 Prihodi od nefinancijske imovine | B24: 0 | C24: 0 | D24: 0 | E24: 0
A25: Program: 1140 PROGRAMI EUROPSKIH POSLOVA
A26: K114034 OŠ Izidora Poljaka Višnjica, PŠ Cvetlin - NPOO | B26: 616408 | C26: 616408 | D26: 157478 | E26: 25.55
A27: Izvor: 11 Opći prihodi i primici | B27: 101000 | C27: 101000 | D27: 0 | E27: 0
A28: 32 Materijalni rashodi | B28: 1000 | C28: 1000 | D28: 0 | E28: 0
A29: 45 Rashodi za dodatna ulaganja na nefinancijskoj imovini | B29: 100000 | C29: 100000 | D29: 0 | E29: 0
A30: Izvor: 44 Decentralizirana sredstva | B30: 1000 | C30: 1000 | D30: 0 | E30: 0
A31: 45 Rashodi za dodatna ulaganja na nefinancijskoj imovini | B31: 1000 | C31: 1000 | D31: 0 | E31: 0
A32: Izvor: 58 Instrumenti EU nove generacije | B32: 514408 | C32: 514408 | D32: 157478 | E32: 30.61
A33: 45 Rashodi za dodatna ulaganja na nefinancijskoj imovini | B33: 312586 | C33: 312586 | D33: 150396.04 | E33: 48.11
A34: 4511 Dodatna ulaganja na građevinskim objektima | B34: 0 | C34: 0 | D34: 150396.04
A35: 32 Materijalni rashodi | B35: 7500 | C35: 7500 | D35: 800 | E35: 10.67
A36: 3233 Usluge promidžbe i informiranja | B36: 0 | C36: 0 | D36: 800
A37: 42 Rashodi za nabavu proizvedene dugotrajne imovine | B37: 40000 | C37: 40000 | D37: 0 | E37: 0
A38: 45 Rashodi za dodatna ulaganja na nefinancijskoj imovini | B38: 154322 | C38: 154322 | D38: 6281.96 | E38: 4.07
A39: 4511 Dodatna ulaganja na građevinskim objektima | B39: 0 | C39: 0 | D39: 6281.96
A40: T114017 Asistenti u nastavi | B40: 28605 | C40: 28605 | D40: 14179.4 | E40: 49.57
A41: Izvor: 11 Opći prihodi i primici | B41: 6360 | C41: 6360 | D41: 4492.98 | E41: 70.64
A42: 31 Rashodi za zaposlene | B42: 5915 | C42: 5915 | D42: 4236.73 | E42: 71.63
A43: 3111 Plaće za redovan rad | B43: 0 | C43: 0 | D43: 3465
A44: 3121 Ostali rashodi za zaposlene | B44: 0 | C44: 0 | D44: 200
A45: 3132 Doprinosi za obvezno zdravstveno osiguranje | B45: 0 | C45: 0 | D45: 571.73
A46: 32 Materijalni rashodi | B46: 445 | C46: 445 | D46: 256.25 | E46: 57.58
A47: 3212 Naknade za prijevoz, za rad na terenu i odvojeni život | B47: 0 | C47: 0 | D47: 256.25
A48: Izvor: 50 Pomoći iz državnog proračuna | B48: 7585 | C48: 7585 | D48: 0 | E48: 0
A49: 31 Rashodi za zaposlene | B49: 7050 | C49: 7050 | D49: 0 | E49: 0
A50: 32 Materijalni rashodi | B50: 535 | C50: 535 | D50: 0 | E50: 0
A51: Izvor: 56 Fondovi EU | B51: 14660 | C51: 14660 | D51: 9686.42 | E51: 66.07
A52: 31 Rashodi za zaposlene | B52: 11865 | C52: 11865 | D52: 6847.32 | E52: 57.71
A53: 3111 Plaće za redovan rad | B53: 0 | C53: 0 | D53: 5362.5
A54: 3121 Ostali rashodi za zaposlene | B54: 0 | C54: 0 | D54: 600
A55: 3132 Doprinosi za obvezno zdravstveno osiguranje | B55: 0 | C55: 0 | D55: 884.82
A56: 32 Materijalni rashodi | B56: 890 | C56: 890 | D56: 566.94 | E56: 63.7
A57: 3211 Službena putovanja | B57: 0 | C57: 0 | D57: 90
A58: 3212 Naknade za prijevoz, za rad na terenu i odvojeni život | B58: 0 | C58: 0 | D58: 476.94
A59: 31 Rashodi za zaposlene | B59: 1770 | C59: 1770 | D59: 2114.48 | E59: 119.46
A60: 3111 Plaće za redovan rad | B60: 0 | C60: 0 | D60: 1815
A61: 3132 Doprinosi za obvezno zdravstveno osiguranje | B61: 0 | C61: 0 | D61: 299.48
A62: 32 Materijalni rashodi | B62: 135 | C62: 135 | D62: 157.68 | E62: 116.8
A63: 3212 Naknade za prijevoz, za rad na terenu i odvojeni život | B63: 0 | C63: 0 | D63: 157.68
A64: T114036 Školska Shema | B64: 2000 | C64: 2000 | D64: 0 | E64: 0
A65: Izvor: 52 Ostale pomoći | B65: 2000 | C65: 2000 | D65: 0 | E65: 0
A66: 32 Materijalni rashodi | B66: 2000 | C66: 2000 | D66: 0 | E66: 0
A67: Program: 1210 JAVNE POTREBE U OBRAZOVANJU IZNAD ZAKONSKOG STANDARDA | B67: 60664 | C67: 60664 | D67: 25380.78 | E67: 41.84
A68: A121016 Programi u školstvu iznad zakonskog standarda | B68: 18934 | C68: 18934 | D68: 1512.5 | E68: 7.99
A69: Izvor: 11 Opći prihodi i primici | B69: 0 | C69: 0 | D69: 300 | E69: 0
A70: 32 Materijalni rashodi | B70: 0 | C70: 0 | D70: 300 | E70: 0
A71: 3299 Ostali nespomenuti rashodi poslovanja | B71: 0 | C71: 0 | D71: 300
A72: Izvor: 31 Vlastiti prihodi | B72: 1004 | C72: 1004 | D72: 1212.5 | E72: 120.77
A73: 42 Rashodi za nabavu proizvedene dugotrajne imovine | B73: 1004 | C73: 1004 | D73: 1212.5 | E73: 120.77
A74: 4221 Uredska oprema i namještaj | B74: 0 | C74: 0 | D74: 1212.5
A75: Izvor: 43 Ostali prihodi za posebne namjene | B75: 950 | C75: 950 | D75: 0 | E75: 0
A76: 32 Materijalni rashodi | B76: 950 | C76: 950 | D76: 0 | E76: 0
A77: Izvor: 52 Ostale pomoći | B77: 16080 | C77: 16080 | D77: 0 | E77: 0
A78: 37 Naknade građanima i kućanstvima na temelju osiguranja i druge naknade | B78: 15600 | C78: 15600 | D78: 0 | E78: 0
A79: 42 Rashodi za nabavu proizvedene dugotrajne imovine | B79: 480 | C79: 480 | D79: 0 | E79: 0
A80: Izvor: 61 Donacije | B80: 900 | C80: 900 | D80: 0 | E80: 0
A81: 32 Materijalni rashodi | B81: 900 | C81: 900 | D81: 0 | E81: 0
A82: A121019 Prehrana učenika | B82: 39900 | C82: 39900 | D82: 22468.28 | E82: 56.31
A83: Izvor: 43 Ostali prihodi za posebne namjene | B83: 4900 | C83: 4900 | D83: 2945.95 | E83: 60.12
A84: 32 Materijalni rashodi | B84: 4900 | C84: 4900 | D84: 2945.95 | E84: 60.12
A85: 3222 Materijal i sirovine | B85: 0 | C85: 0 | D85: 2945.95
A86: Izvor: 52 Ostale pomoći | B86: 35000 | C86: 35000 | D86: 19522.33 | E86: 55.78
A87: 32 Materijalni rashodi | B87: 35000 | C87: 35000 | D87: 19522.33 | E87: 55.78
A88: 3222 Materijal i sirovine | B88: 0 | C88: 0 | D88: 19522.33
A89: A121023 Građanski odgoj | B89: 1400 | C89: 1400 | D89: 1400 | E89: 100
A90: Izvor: 11 Opći prihodi i primici | B90: 1400 | C90: 1400 | D90: 1400 | E90: 100
A91: 32 Materijalni rashodi | B91: 900 | C91: 900 | D91: 902.1 | E91: 100.23
A92: 3222 Materijal i sirovine | B92: 0 | C92: 0 | D92: 902.1
A93: 42 Rashodi za nabavu proizvedene dugotrajne imovine | B93: 500 | C93: 500 | D93: 497.9 | E93: 99.58
A94: 4227 Uređaji, strojevi i oprema za ostale namjene | B94: 0 | C94: 0 | D94: 497.9
A95: A121025 Opskrba školskih ustanova besplatnim higijenskim potrepštinama | B95: 320 | C95: 320 | D95: 0 | E95: 0
A96: Izvor: 52 Ostale pomoći | B96: 320 | C96: 320 | D96: 0 | E96: 0
A97: 38 Ostali rashodi | B97: 320 | C97: 320 | D97: 0 | E97: 0
A98: T121001 Školski medni dan | B98: 110 | C98: 110 | D98: 0 | E98: 0
A99: Izvor: 52 Ostale pomoći | B99: 110 | C99: 110 | D99: 0 | E99: 0
A100: 32 Materijalni rashodi | B100: 110 | C100: 110 | D100: 0 | E100: 0
A101: Program: 1230 ZAKONSKI STANDARD JAVNIH USTANOVA OŠ | B101: 1165706 | C101: 1165706 | D101: 605996.3 | E101: 51.99
A102: A123001 Odgojnoobrazovno, administrativno i tehničko osoblje | B102: 1151761 | C102: 1151761 | D102: 603948.7 | E102: 52.44
A103: Izvor: 31 Vlastiti prihodi | B103: 3411 | C103: 3411 | D103: 2096.9 | E103: 61.47
A104: 32 Materijalni rashodi | B104: 3411 | C104: 3411 | D104: 2096.9 | E104: 61.47
A105: 3221 Uredski materijal i ostali materijalni rashodi | B105: 0 | C105: 0 | D105: 294.11
...
